BEGIN:VCALENDAR
PRODID:-//eluceo/ical//2.0/EN
VERSION:2.0
CALSCALE:GREGORIAN
BEGIN:VEVENT
UID:190c4e585585c638a6aa25765513340e
DTSTAMP:20260420T122416Z
SUMMARY:Urlaub 05.10.-11.10.2026
DESCRIPTION:Wir machen Ferien! 😇
DTSTART:20261005
DTEND:20261012
LOCATION:
END:VEVENT
END:VCALENDAR
